BEGIN:VCALENDAR
PRODID:-//AT Content Types//AT Event//EN
VERSION:1.0
BEGIN:VEVENT
DTSTART:20170629T110000Z
DTEND:20170629T110000Z
DCREATED:20170202T114651Z
UID:ATEvent-9e5d890a291d4e40be145b53b588c080
SEQUENCE:0
LAST-MODIFIED:20170202T114656Z
SUMMARY:Break for Summer holiday
PRIORITY:3
TRANSP:0
END:VEVENT
END:VCALENDAR
