BEGIN:VCALENDAR
PRODID:-//AT Content Types//AT Event//EN
VERSION:2.0
METHOD:PUBLISH
BEGIN:VEVENT
DTSTAMP:20260424T194932Z
CREATED:20231118T075643Z
UID:ATEvent-ad31bcb786f44a14b3834a7969520d13
LAST-MODIFIED:20231118T075650Z
SUMMARY:Christmas parties and wear party / play clothes
DTSTART:20231218T131500Z
DTEND:20231218T151500Z
CLASS:PUBLIC
END:VEVENT
END:VCALENDAR
