BEGIN:VCALENDAR
PRODID:-//AT Content Types//AT Event//EN
VERSION:1.0
BEGIN:VEVENT
DTSTART:20181218T131500Z
DTEND:20181218T151500Z
DCREATED:20181214T142634Z
UID:ATEvent-7765c687e1804907ac65cf9e90c3dedb
SEQUENCE:0
LAST-MODIFIED:20181214T142639Z
SUMMARY:Christmas Parties
PRIORITY:3
TRANSP:0
END:VEVENT
END:VCALENDAR
