BEGIN:VCALENDAR
PRODID:-//AT Content Types//AT Event//EN
VERSION:1.0
BEGIN:VEVENT
DTSTART:20181219T103000Z
DTEND:20181219T110000Z
DCREATED:20181214T142208Z
UID:ATEvent-93dc033df442435bb5a8f09cef34785f
SEQUENCE:0
LAST-MODIFIED:20181214T142540Z
SUMMARY:Christmas Service
PRIORITY:3
TRANSP:0
END:VEVENT
END:VCALENDAR
