BEGIN:VCALENDAR
PRODID:-//AT Content Types//AT Event//EN
VERSION:1.0
BEGIN:VEVENT
DTSTART:20181221T120000Z
DTEND:20181221T120000Z
DCREATED:20181214T142751Z
UID:ATEvent-1ef927aa58fd45f0a4d4bcd390b4e114
SEQUENCE:0
LAST-MODIFIED:20181214T142756Z
SUMMARY:End of term
PRIORITY:3
TRANSP:0
END:VEVENT
END:VCALENDAR
