BEGIN:VCALENDAR
PRODID:-//AT Content Types//AT Event//EN
VERSION:2.0
METHOD:PUBLISH
BEGIN:VEVENT
DTSTAMP:20260424T194314Z
CREATED:20160513T141735Z
UID:ATEvent-c8cbdf2c461646ab900566c3ff27e532
LAST-MODIFIED:20160513T141833Z
SUMMARY:End of term
DTSTART:20160701T110000Z
DTEND:20160701T110000Z
CLASS:PUBLIC
END:VEVENT
END:VCALENDAR
