BEGIN:VCALENDAR
PRODID:-//AT Content Types//AT Event//EN
VERSION:2.0
METHOD:PUBLISH
BEGIN:VEVENT
DTSTAMP:20260424T194709Z
CREATED:20231118T070631Z
UID:ATEvent-bc1109ad05714ec0b1da52b069e087dd
LAST-MODIFIED:20231118T070639Z
SUMMARY:Foodbank collection (P2 & P6)
DTSTART:20231205T090000Z
DTEND:20231205T151500Z
CLASS:PUBLIC
END:VEVENT
END:VCALENDAR
