BEGIN:VCALENDAR
PRODID:-//AT Content Types//AT Event//EN
VERSION:2.0
METHOD:PUBLISH
BEGIN:VEVENT
DTSTAMP:20260424T194150Z
CREATED:20170202T112424Z
UID:ATEvent-110f7cd39fea4977a8e0b6786c2d852c
LAST-MODIFIED:20170202T112429Z
SUMMARY:Half term holiday
DTSTART:20170210T090000Z
DTEND:20170213T151500Z
CLASS:PUBLIC
END:VEVENT
END:VCALENDAR
