BEGIN:VCALENDAR
PRODID:-//AT Content Types//AT Event//EN
VERSION:1.0
BEGIN:VEVENT
DTSTART:20240506T080000Z
DTEND:20240506T141500Z
DCREATED:20230904T144158Z
UID:ATEvent-9d76857e3d6b4d8395cd00dc587880fb
SEQUENCE:0
LAST-MODIFIED:20230904T144202Z
SUMMARY:Holiday
PRIORITY:3
TRANSP:0
END:VEVENT
END:VCALENDAR
