BEGIN:VCALENDAR
PRODID:-//AT Content Types//AT Event//EN
VERSION:1.0
BEGIN:VEVENT
DTSTART:20240527T080000Z
DTEND:20240527T141500Z
DCREATED:20230904T144321Z
UID:ATEvent-b0ae671934e64bcf970a439af033fe20
SEQUENCE:0
LAST-MODIFIED:20230904T144324Z
SUMMARY:Holiday
PRIORITY:3
TRANSP:0
END:VEVENT
END:VCALENDAR
