BEGIN:VCALENDAR
PRODID:-//AT Content Types//AT Event//EN
VERSION:1.0
BEGIN:VEVENT
DTSTART:20190506T080000Z
DTEND:20190506T141500Z
DCREATED:20181214T145331Z
UID:ATEvent-c35d7299b3f2413fa5a34ff4e6ac7d0c
SEQUENCE:0
LAST-MODIFIED:20181214T145336Z
SUMMARY:Holiday (May Day)
PRIORITY:3
TRANSP:0
END:VEVENT
END:VCALENDAR
