BEGIN:VCALENDAR
PRODID:-//AT Content Types//AT Event//EN
VERSION:1.0
BEGIN:VEVENT
DTSTART:20190527T080000Z
DTEND:20190527T141500Z
DCREATED:20181214T145601Z
UID:ATEvent-270f96ab8c654988bde31c300dd4d439
SEQUENCE:0
LAST-MODIFIED:20181214T145609Z
SUMMARY:Holiday (Victoria Day)
PRIORITY:3
TRANSP:0
END:VEVENT
END:VCALENDAR
