BEGIN:VCALENDAR
PRODID:-//AT Content Types//AT Event//EN
VERSION:1.0
BEGIN:VEVENT
DTSTART:20170526T080000Z
DTEND:20170526T141500Z
DCREATED:20170202T114334Z
UID:ATEvent-37f7896638cf41d69449bb7bcef9c1b9
SEQUENCE:0
LAST-MODIFIED:20170202T114518Z
SUMMARY:In-service
PRIORITY:3
TRANSP:0
END:VEVENT
END:VCALENDAR
