BEGIN:VCALENDAR
PRODID:-//AT Content Types//AT Event//EN
VERSION:2.0
METHOD:PUBLISH
BEGIN:VEVENT
DTSTAMP:20260424T194337Z
CREATED:20160811T132950Z
UID:ATEvent-c70dd26405d64cb29f4c95058b57e5be
LAST-MODIFIED:20160811T132954Z
SUMMARY:In service day
DTSTART:20161110T090000Z
DTEND:20161110T151500Z
CLASS:PUBLIC
END:VEVENT
END:VCALENDAR
