BEGIN:VCALENDAR
PRODID:-//AT Content Types//AT Event//EN
VERSION:1.0
BEGIN:VEVENT
DTSTART:20170814T080000Z
DTEND:20170814T141500Z
DCREATED:20170202T114821Z
UID:ATEvent-ff5f12f975114c47b96afbc5683fba54
SEQUENCE:0
LAST-MODIFIED:20170202T114827Z
SUMMARY:In-service day
PRIORITY:3
TRANSP:0
END:VEVENT
END:VCALENDAR
