BEGIN:VCALENDAR
PRODID:-//AT Content Types//AT Event//EN
VERSION:1.0
BEGIN:VEVENT
DTSTART:20190219T090000Z
DTEND:20190219T151500Z
DCREATED:20181214T144251Z
UID:ATEvent-c149dc964a974ae7947dd867fe1f0c7f
SEQUENCE:0
LAST-MODIFIED:20181214T144757Z
SUMMARY:In-service day
PRIORITY:3
TRANSP:0
END:VEVENT
END:VCALENDAR
