BEGIN:VCALENDAR
PRODID:-//AT Content Types//AT Event//EN
VERSION:1.0
BEGIN:VEVENT
DTSTART:20160527T080000Z
DTEND:20160527T141500Z
DCREATED:20160516T083729Z
UID:ATEvent-527a2c267be64d1399d541b7b4a73206
SEQUENCE:0
LAST-MODIFIED:20160516T083856Z
SUMMARY:In service day
PRIORITY:3
TRANSP:0
END:VEVENT
END:VCALENDAR
