BEGIN:VCALENDAR
PRODID:-//AT Content Types//AT Event//EN
VERSION:1.0
BEGIN:VEVENT
DTSTART:20240220T090000Z
DTEND:20240220T151500Z
DCREATED:20230904T142329Z
UID:ATEvent-9503d8214ce04bb8b62cd04c5f7b868c
SEQUENCE:0
LAST-MODIFIED:20230904T142332Z
SUMMARY:Inset Day 4
PRIORITY:3
TRANSP:0
END:VEVENT
END:VCALENDAR
