BEGIN:VCALENDAR
PRODID:-//AT Content Types//AT Event//EN
VERSION:1.0
BEGIN:VEVENT
DTSTART:20240502T080000Z
DTEND:20240502T141500Z
DCREATED:20230904T142459Z
UID:ATEvent-bb920d4255124b9ebe30004d8beee4a7
SEQUENCE:0
LAST-MODIFIED:20230904T142502Z
SUMMARY:Inset Day 5
PRIORITY:3
TRANSP:0
END:VEVENT
END:VCALENDAR
