BEGIN:VCALENDAR
PRODID:-//AT Content Types//AT Event//EN
VERSION:2.0
METHOD:PUBLISH
BEGIN:VEVENT
DTSTAMP:20260424T194553Z
CREATED:20230904T142659Z
UID:ATEvent-9344309ec4154723ae714ae34192f06e
LAST-MODIFIED:20230904T142702Z
SUMMARY:Last day of term
DTSTART:20240328T151500Z
DTEND:20240328T151500Z
CLASS:PUBLIC
END:VEVENT
END:VCALENDAR
