BEGIN:VCALENDAR
PRODID:-//AT Content Types//AT Event//EN
VERSION:2.0
METHOD:PUBLISH
BEGIN:VEVENT
DTSTAMP:20260424T210035Z
CREATED:20160513T141457Z
UID:ATEvent-ade88f9892414985b3ba01d3184a4508
LAST-MODIFIED:20160513T141509Z
SUMMARY:Mad Hair day
DTSTART:20160520T080000Z
DTEND:20160520T141500Z
CLASS:PUBLIC
END:VEVENT
END:VCALENDAR
