BEGIN:VCALENDAR
PRODID:-//AT Content Types//AT Event//EN
VERSION:1.0
BEGIN:VEVENT
DTSTART:20231215T140000Z
DTEND:20231215T150000Z
DCREATED:20231118T073257Z
UID:ATEvent-d8dc374631a14afba3c876996df6a270
SEQUENCE:0
LAST-MODIFIED:20231118T074011Z
SUMMARY:P4-7 Christmas Open Afternoon
PRIORITY:3
TRANSP:0
END:VEVENT
END:VCALENDAR
