BEGIN:VCALENDAR
PRODID:-//AT Content Types//AT Event//EN
VERSION:2.0
METHOD:PUBLISH
BEGIN:VEVENT
DTSTAMP:20260424T194856Z
CREATED:20231118T070011Z
UID:ATEvent-cdd86391e71248e88cd1831da9ce6d67
LAST-MODIFIED:20231118T070032Z
SUMMARY:P6 Football Tournament (selected pupils)
DTSTART:20231202T120000Z
DTEND:20231202T140000Z
CLASS:PUBLIC
END:VEVENT
END:VCALENDAR
