BEGIN:VCALENDAR
PRODID:-//AT Content Types//AT Event//EN
VERSION:1.0
BEGIN:VEVENT
DTSTART:20240319T154000Z
DTEND:20240319T183000Z
DCREATED:20230904T144507Z
UID:ATEvent-fda3cf7afb0c4360aebadb31e50a6c79
SEQUENCE:0
LAST-MODIFIED:20230904T144511Z
SUMMARY:Parent / Carer contact evening
PRIORITY:3
TRANSP:0
END:VEVENT
END:VCALENDAR
