BEGIN:VCALENDAR
PRODID:-//AT Content Types//AT Event//EN
VERSION:1.0
BEGIN:VEVENT
DTSTART:20240321T090000Z
DTEND:20240321T151500Z
DCREATED:20230904T144606Z
UID:ATEvent-4a0bac9011ab4a4c89ec00ba89e16735
SEQUENCE:0
LAST-MODIFIED:20230904T144609Z
SUMMARY:Parent / Carer contact evening
PRIORITY:3
TRANSP:0
END:VEVENT
END:VCALENDAR
