BEGIN:VCALENDAR
PRODID:-//AT Content Types//AT Event//EN
VERSION:2.0
METHOD:PUBLISH
BEGIN:VEVENT
DTSTAMP:20260424T194435Z
CREATED:20170314T140819Z
UID:ATEvent-05b3a9d08e274a8e8815e07933f1a8bf
LAST-MODIFIED:20170314T140826Z
SUMMARY:Parent Contact
DTSTART:20170316T160000Z
DTEND:20170316T183000Z
CLASS:PUBLIC
END:VEVENT
END:VCALENDAR
