BEGIN:VCALENDAR
PRODID:-//AT Content Types//AT Event//EN
VERSION:2.0
METHOD:PUBLISH
BEGIN:VEVENT
DTSTAMP:20260424T194629Z
CREATED:20170202T113224Z
UID:ATEvent-058171fd83524f31b0dc269e14a9a745
LAST-MODIFIED:20170202T113229Z
SUMMARY:Parent Council meeting
DTSTART:20170427T170000Z
DTEND:20170427T183000Z
CLASS:PUBLIC
END:VEVENT
END:VCALENDAR
