BEGIN:VCALENDAR
PRODID:-//AT Content Types//AT Event//EN
VERSION:1.0
BEGIN:VEVENT
DTSTART:20190615T090000Z
DTEND:20190615T110000Z
DCREATED:20190517T090827Z
UID:ATEvent-003f2fe60b234dd8b843d764508eec30
SEQUENCE:0
LAST-MODIFIED:20190517T090830Z
SUMMARY:Parent Council Whole School Summer Fayre
PRIORITY:3
TRANSP:0
END:VEVENT
END:VCALENDAR
