BEGIN:VCALENDAR
PRODID:-//AT Content Types//AT Event//EN
VERSION:2.0
METHOD:PUBLISH
BEGIN:VEVENT
DTSTAMP:20260424T194123Z
CREATED:20190517T083548Z
UID:ATEvent-fbd09942e9624185816de6b1fc20504c
LAST-MODIFIED:20190517T083817Z
SUMMARY:Parent questionnaires to be completed
DTSTART:20190522T160000Z
DTEND:20190522T160000Z
CLASS:PUBLIC
END:VEVENT
END:VCALENDAR
