BEGIN:VCALENDAR
PRODID:-//AT Content Types//AT Event//EN
VERSION:1.0
BEGIN:VEVENT
DTSTART:20240415T080000Z
DTEND:20240415T141500Z
DCREATED:20230904T143752Z
UID:ATEvent-07c9430f58024867b1737be71cacf2aa
SEQUENCE:0
LAST-MODIFIED:20230904T143800Z
SUMMARY:Pupils return to school
PRIORITY:3
TRANSP:0
END:VEVENT
END:VCALENDAR
