BEGIN:VCALENDAR
PRODID:-//AT Content Types//AT Event//EN
VERSION:2.0
METHOD:PUBLISH
BEGIN:VEVENT
DTSTAMP:20260424T194336Z
CREATED:20230904T132237Z
UID:ATEvent-9d5bc11938754403a149b078415f2840
LAST-MODIFIED:20230904T132251Z
SUMMARY:Pupils return to school
DTSTART:20230815T080000Z
DTEND:20230815T141500Z
CLASS:PUBLIC
END:VEVENT
END:VCALENDAR
