BEGIN:VCALENDAR
PRODID:-//AT Content Types//AT Event//EN
VERSION:1.0
BEGIN:VEVENT
DTSTART:20240329T090000Z
DTEND:20240412T141500Z
DCREATED:20230904T143217Z
UID:ATEvent-07afa74afd454529804e95765d8d94ad
SEQUENCE:0
LAST-MODIFIED:20230904T143220Z
SUMMARY:School closed for holidays
PRIORITY:3
TRANSP:0
END:VEVENT
END:VCALENDAR
