BEGIN:VCALENDAR
PRODID:-//AT Content Types//AT Event//EN
VERSION:1.0
BEGIN:VEVENT
DTSTART:20231009T080000Z
DTEND:20231020T141500Z
DCREATED:20230904T135012Z
UID:ATEvent-828a2eaf370b4c548d3dd6a632af7b1d
SEQUENCE:0
LAST-MODIFIED:20230904T135310Z
SUMMARY:School closed for holidays
PRIORITY:3
TRANSP:0
END:VEVENT
END:VCALENDAR
