BEGIN:VCALENDAR
PRODID:-//AT Content Types//AT Event//EN
VERSION:2.0
METHOD:PUBLISH
BEGIN:VEVENT
DTSTAMP:20260424T194447Z
CREATED:20170202T114939Z
UID:ATEvent-1e6b804f658b4f9ab46d5b28519afb51
LAST-MODIFIED:20170202T114943Z
SUMMARY:School resumes
DTSTART:20170815T080000Z
DTEND:20170815T080000Z
CLASS:PUBLIC
END:VEVENT
END:VCALENDAR
