BEGIN:VCALENDAR
PRODID:-//AT Content Types//AT Event//EN
VERSION:2.0
METHOD:PUBLISH
BEGIN:VEVENT
DTSTAMP:20260424T194513Z
CREATED:20181214T142918Z
UID:ATEvent-4193090576ad47869f7670a58b2414e2
LAST-MODIFIED:20181214T142935Z
SUMMARY:School resumes
DTSTART:20190107T090000Z
DTEND:20190107T090000Z
CLASS:PUBLIC
END:VEVENT
END:VCALENDAR
