BEGIN:VCALENDAR
PRODID:-//AT Content Types//AT Event//EN
VERSION:1.0
BEGIN:VEVENT
DTSTART:20160816T080000Z
DTEND:20160816T080000Z
DCREATED:20160811T130211Z
UID:ATEvent-7a514ba72f7f4eb8802589cf095bf70e
SEQUENCE:0
LAST-MODIFIED:20160811T130352Z
SUMMARY:School resumes for pupils
PRIORITY:3
TRANSP:0
END:VEVENT
END:VCALENDAR
