BEGIN:VCALENDAR
PRODID:-//AT Content Types//AT Event//EN
VERSION:2.0
METHOD:PUBLISH
BEGIN:VEVENT
DTSTAMP:20260424T194428Z
CREATED:20160811T132747Z
UID:ATEvent-0ea566d99bec492185fd1c831448ffc6
LAST-MODIFIED:20160811T132752Z
SUMMARY:School resumes
DTSTART:20161024T080000Z
DTEND:20161024T080000Z
CLASS:PUBLIC
END:VEVENT
END:VCALENDAR
