BEGIN:VCALENDAR
PRODID:-//AT Content Types//AT Event//EN
VERSION:1.0
BEGIN:VEVENT
DTSTART:20190614T121500Z
DTEND:20190614T140000Z
DCREATED:20190517T091138Z
UID:ATEvent-c52ded20ee6c4fbc9d089569378895a3
SEQUENCE:0
LAST-MODIFIED:20190517T091145Z
SUMMARY:Sports Afternoon
PRIORITY:3
TRANSP:0
END:VEVENT
END:VCALENDAR
