BEGIN:VCALENDAR
PRODID:-//AT Content Types//AT Event//EN
VERSION:1.0
BEGIN:VEVENT
DTSTART:20170217T090000Z
DTEND:20170217T151500Z
DCREATED:20170202T112646Z
UID:ATEvent-23bb488a9c224f3194834c64405bbef2
SEQUENCE:0
LAST-MODIFIED:20170202T112715Z
SUMMARY:Tombola
PRIORITY:3
TRANSP:0
END:VEVENT
END:VCALENDAR
