BEGIN:VCALENDAR
PRODID:-//AT Content Types//AT Event//EN
VERSION:1.0
BEGIN:VEVENT
DTSTART:20160530T080000Z
DTEND:20160530T141500Z
DCREATED:20160516T083952Z
UID:ATEvent-c5084baf3738410ba6090eba7394e075
SEQUENCE:0
LAST-MODIFIED:20160516T084042Z
SUMMARY:Victoria Day holiday
PRIORITY:3
TRANSP:0
END:VEVENT
END:VCALENDAR
