BEGIN:VCALENDAR
PRODID:-//AT Content Types//AT Event//EN
VERSION:2.0
METHOD:PUBLISH
BEGIN:VEVENT
DTSTAMP:20260424T194552Z
CREATED:20190517T090126Z
UID:ATEvent-4e49413c187440cbba96dc783dae9272
LAST-MODIFIED:20190517T090136Z
SUMMARY:Whole school trip to Active Kids
DTSTART:20190607T083000Z
DTEND:20190607T141500Z
CLASS:PUBLIC
END:VEVENT
END:VCALENDAR
